BEGIN:VCALENDAR
VERSION:2.0
PRODID:-//Fusion Athletics - ECPv6.15.20//NONSGML v1.0//EN
CALSCALE:GREGORIAN
METHOD:PUBLISH
X-ORIGINAL-URL:https://fusionathleticsgb.com
X-WR-CALDESC:Events for Fusion Athletics
REFRESH-INTERVAL;VALUE=DURATION:PT1H
X-Robots-Tag:noindex
X-PUBLISHED-TTL:PT1H
BEGIN:VTIMEZONE
TZID:America/Chicago
BEGIN:DAYLIGHT
TZOFFSETFROM:-0600
TZOFFSETTO:-0500
TZNAME:CDT
DTSTART:20250309T080000
END:DAYLIGHT
BEGIN:STANDARD
TZOFFSETFROM:-0500
TZOFFSETTO:-0600
TZNAME:CST
DTSTART:20251102T070000
END:STANDARD
BEGIN:DAYLIGHT
TZOFFSETFROM:-0600
TZOFFSETTO:-0500
TZNAME:CDT
DTSTART:20260308T080000
END:DAYLIGHT
BEGIN:STANDARD
TZOFFSETFROM:-0500
TZOFFSETTO:-0600
TZNAME:CST
DTSTART:20261101T070000
END:STANDARD
BEGIN:DAYLIGHT
TZOFFSETFROM:-0600
TZOFFSETTO:-0500
TZNAME:CDT
DTSTART:20270314T080000
END:DAYLIGHT
BEGIN:STANDARD
TZOFFSETFROM:-0500
TZOFFSETTO:-0600
TZNAME:CST
DTSTART:20271107T070000
END:STANDARD
END:VTIMEZONE
BEGIN:VEVENT
DTSTART;TZID=America/Chicago:20260513T183000
DTEND;TZID=America/Chicago:20260513T203000
DTSTAMP:20260423T045730
CREATED:20260211T152012Z
LAST-MODIFIED:20260211T152012Z
UID:4890-1778697000-1778704200@fusionathleticsgb.com
SUMMARY:Coed Stunting Lessons
DESCRIPTION:[vc_row][vc_column][vc_single_image image=”4889″ img_size=”full” alignment=”center” css=””][vc_empty_space][/vc_column][/vc_row][vc_row][vc_column][vc_empty_space][vc_column_text css=””]\nFlight School is here! Take your flyer training to the next level with our Flight School! A 30 min flying lesson with a College Coed Stunter! \nDate: 5/13/2026\nTime: 6:30 – 8:30 pm\nCost: $30 Per 30 Minute Session \n[/vc_column_text][vc_empty_space][vc_button title=”REGISTER NOW” target=”_blank” color=”custom” custom_color=”#000000″ custom_border_color=”#000000″ custom_color_hover=”#1fe011″ custom_border_color_hover=”#1fe011″ full_width=”true” href=”https://app.jackrabbitclass.com/eventcalendar.asp?id=&key=&clabel=&date=5%2F11%2F2026&orgid=520393″][vc_empty_space][/vc_column][/vc_row]
URL:https://fusionathleticsgb.com/events/coed-stunting-lessons-2/
CATEGORIES:Upcoming Events
ATTACH;FMTTYPE=image/jpeg:https://fusionathleticsgb.com/wp-content/uploads/2026/02/Flight-School-11.jpg
END:VEVENT
BEGIN:VEVENT
DTSTART;TZID=America/Chicago:20260514T170000
DTEND;TZID=America/Chicago:20260514T200000
DTSTAMP:20260423T045730
CREATED:20260422T162116Z
LAST-MODIFIED:20260422T162138Z
UID:4992-1778778000-1778788800@fusionathleticsgb.com
SUMMARY:Stunt Group Private Lessons
DESCRIPTION:[vc_row][vc_column][vc_single_image image=”4993″ img_size=”full” alignment=”center” css=””][vc_empty_space][/vc_column][/vc_row][vc_row][vc_column][vc_column_text css=””]\nCome work with our staff in a traditional stunt group. Strengthening your flyer skills in the air! Lessons are 30 mins. Athletes are expected to arrive 15 mins early\, warm up and be ready to go at their start time. \nDate: 5/14/2026\nTime: 5:00 – 8:00 pm\nCost: $30 \n[/vc_column_text][vc_empty_space][/vc_column][/vc_row][vc_row][vc_column][vc_button title=”REGISTER NOW” target=”_blank” color=”custom” custom_color=”#000000″ custom_border_color=”#000000″ custom_color_hover=”#1fe011″ custom_border_color_hover=”#1fe011″ full_width=”true” href=”https://app.jackrabbitclass.com/regv2.asp?id=520393&fbclid=IwAR3ZA4KdjwL2BZtS3BSj_lMlJ8nccUOobVrVt_EpWXIh7bDaGJ0F4xy7yb0″][vc_empty_space][/vc_column][/vc_row]
URL:https://fusionathleticsgb.com/events/stunt-group-private-lessons/
CATEGORIES:Upcoming Events
ATTACH;FMTTYPE=image/jpeg:https://fusionathleticsgb.com/wp-content/uploads/2026/04/Flight-School-13.jpg
END:VEVENT
BEGIN:VEVENT
DTSTART;TZID=America/Chicago:20260514T180000
DTEND;TZID=America/Chicago:20260514T190000
DTSTAMP:20260423T045730
CREATED:20260414T145618Z
LAST-MODIFIED:20260414T145618Z
UID:4975-1778781600-1778785200@fusionathleticsgb.com
SUMMARY:All Star Cheer Open House
DESCRIPTION:[vc_row][vc_column][vc_single_image image=”4976″ img_size=”full” alignment=”center” css=””][vc_empty_space][/vc_column][/vc_row][vc_row][vc_column][vc_column_text css=””]\nCome see what Fusion Athletics All Star Cheer Program is all about! Tour the gym\, learn about what makes Fusion different and see if we may be a fit for your family! \nDate: 5/14/2026\nTime: 6:00 – 7:00 pm[/vc_column_text][vc_empty_space][/vc_column][/vc_row][vc_row bwd_tbc4vd_show_weekday=”” disable_element=”yes”][vc_column][vc_button title=”REGISTER NOW” target=”_blank” color=”custom” custom_color=”#000000″ custom_border_color=”#000000″ custom_color_hover=”#1fe011″ custom_border_color_hover=”#1fe011″ full_width=”true” href=”https://app.jackrabbitclass.com/eventcalendar.asp?id=&key=&clabel=&date=5%2F14%2F2026&orgid=520393″][vc_empty_space][/vc_column][/vc_row]
URL:https://fusionathleticsgb.com/events/all-star-cheer-open-house/
CATEGORIES:Upcoming Events
ATTACH;FMTTYPE=image/jpeg:https://fusionathleticsgb.com/wp-content/uploads/2026/04/OPen-House-3.jpg
END:VEVENT
BEGIN:VEVENT
DTSTART;TZID=America/Chicago:20260514T190000
DTEND;TZID=America/Chicago:20260514T200000
DTSTAMP:20260423T045730
CREATED:20260414T150350Z
LAST-MODIFIED:20260414T150350Z
UID:4977-1778785200-1778788800@fusionathleticsgb.com
SUMMARY:Open Gym
DESCRIPTION:[vc_row][vc_column][vc_single_image image=”4978″ img_size=”full” alignment=”center” css=””][vc_empty_space][/vc_column][/vc_row][vc_row][vc_column][vc_column_text css=””]\nGet in\, get better\, and have some fun at Open Gym with Fusion Athletics Green Bay! \nJoin us on Thursday\, May 14th for an hour of open training where athletes can work on tumbling\, stunts\, jumps\, and overall skills at their own pace. Whether you’re perfecting a pass or trying something new\, this is the perfect opportunity to get extra reps in a relaxed\, supportive environment. \nDate: 5/14/2026\nTime: 7:00 – 8:00 pm\nAges: 6-18\nCost: $5 Per Athlete[/vc_column_text][vc_empty_space][/vc_column][/vc_row][vc_row bwd_tbc4vd_show_weekday=””][vc_column][vc_button title=”Wavier” color=”custom” custom_color=”#000000″ custom_border_color=”#000000″ custom_color_hover=”#1fe011″ custom_border_color_hover=”#1fe011″ full_width=”true” href=”https://fusionathleticsgb.com/waiver/”][vc_empty_space][/vc_column][/vc_row]
URL:https://fusionathleticsgb.com/events/open-gym-6/
CATEGORIES:Upcoming Events
ATTACH;FMTTYPE=image/jpeg:https://fusionathleticsgb.com/wp-content/uploads/2026/04/Open-GYm-16.jpg
END:VEVENT
BEGIN:VEVENT
DTSTART;TZID=America/Chicago:20260519T170000
DTEND;TZID=America/Chicago:20260519T210000
DTSTAMP:20260423T045730
CREATED:20260414T132940Z
LAST-MODIFIED:20260414T132955Z
UID:4973-1779210000-1779224400@fusionathleticsgb.com
SUMMARY:Tryout Prep Clinics
DESCRIPTION:[vc_row][vc_column][vc_single_image image=”4974″ img_size=”full” alignment=”center” css=””][vc_empty_space][/vc_column][/vc_row][vc_row][vc_column][vc_column_text css=””]\nAre you completing an evaluation for a Prep or Elite All Star Cheer Team at Fusion Athletics for Season 16 (2026/2027)? This is the perfect clinic to get you ready to nail that tryout! We will work on the Standing Tumbling & Running Tumbling skills. Jumps- how we do them along with drills to increase your jump height and the tryout dance. \nRequirements: \n\nLevel 2 Clinic: Round Off Back Handspring and Standing Back Handspring\nLevel 3 Clinic: Round Off Back Handspring Tuck and Triple Back Handspring\n\nDate: 5/19/2026\nTime: 5:00 – 9:00 pm\nCost: $15 Per Athlete/ Per Clinic[/vc_column_text][vc_empty_space][/vc_column][/vc_row][vc_row][vc_column][vc_button title=”REGISTER NOW” target=”_blank” color=”custom” custom_color=”#000000″ custom_border_color=”#000000″ custom_color_hover=”#1fe011″ custom_border_color_hover=”#1fe011″ full_width=”true” href=”https://app.jackrabbitclass.com/eventcalendar.asp?id=&key=&clabel=&date=5%2F14%2F2026&orgid=520393″][vc_empty_space][/vc_column][/vc_row]
URL:https://fusionathleticsgb.com/events/tryout-prep-clinics/
CATEGORIES:Upcoming Events
ATTACH;FMTTYPE=image/jpeg:https://fusionathleticsgb.com/wp-content/uploads/2026/04/JeffSahil-8.jpg
END:VEVENT
BEGIN:VEVENT
DTSTART;TZID=America/Chicago:20260521T163000
DTEND;TZID=America/Chicago:20260521T203000
DTSTAMP:20260423T045730
CREATED:20260420T213109Z
LAST-MODIFIED:20260420T213225Z
UID:4990-1779381000-1779395400@fusionathleticsgb.com
SUMMARY:Elite Tumbling Clinic
DESCRIPTION:[vc_row][vc_column][vc_single_image image=”4991″ img_size=”full” alignment=”center” css=””][vc_empty_space][/vc_column][/vc_row][vc_row][vc_column][vc_empty_space][vc_column_text css=””]\n🤸‍♀️🔥 TUMBLING CLINIC WITH ELITE TUMBLING 🔥🤸‍♂️\nWe’re excited to host Elite Tumbling for an upcoming tumbling clinic at Fusion Athletics! This is a great opportunity for athletes to sharpen skills and level up their technique.\n📅 Thursday May 21st\nSession 1: Back Handspring Clinic\n⏰ 4:30–6:30 PM\n💲 $50 per athlete / per clinic\nSession 2: Tuck • Layout • Twist Clinic\n⏰ 6:30–8:30 PM\n💲 $50 per athlete / per clinic\n📍 Spots are limited—don’t wait! \nDate: May 21\, 2026\nTime: 4:30 – 8:30 pm\nCost: $50 per clinic \n[/vc_column_text][vc_empty_space][vc_row_inner][vc_column_inner width=”1/2″][vc_button title=”REGISTER NOW” target=”_blank” color=”custom” custom_color=”#000000″ custom_border_color=”#000000″ custom_color_hover=”#1fe011″ custom_border_color_hover=”#1fe011″ full_width=”true” href=”https://app.jackrabbitclass.com/eventcalendar.asp?id=&key=&clabel=&date=5%2F20%2F2026&orgid=520393″][/vc_column_inner][vc_column_inner width=”1/2″][/vc_column_inner][/vc_row_inner][vc_empty_space][/vc_column][/vc_row]
URL:https://fusionathleticsgb.com/events/elite-tumbling-clinic-3/
CATEGORIES:Upcoming Events
ATTACH;FMTTYPE=image/png:https://fusionathleticsgb.com/wp-content/uploads/2026/04/1-2.png
END:VEVENT
END:VCALENDAR