BEGIN:VCALENDAR
VERSION:2.0
PRODID:-//Fusion Athletics - ECPv6.15.20//NONSGML v1.0//EN
CALSCALE:GREGORIAN
METHOD:PUBLISH
X-ORIGINAL-URL:https://fusionathleticsgb.com
X-WR-CALDESC:Events for Fusion Athletics
REFRESH-INTERVAL;VALUE=DURATION:PT1H
X-Robots-Tag:noindex
X-PUBLISHED-TTL:PT1H
BEGIN:VTIMEZONE
TZID:America/Chicago
BEGIN:DAYLIGHT
TZOFFSETFROM:-0600
TZOFFSETTO:-0500
TZNAME:CDT
DTSTART:20250309T080000
END:DAYLIGHT
BEGIN:STANDARD
TZOFFSETFROM:-0500
TZOFFSETTO:-0600
TZNAME:CST
DTSTART:20251102T070000
END:STANDARD
BEGIN:DAYLIGHT
TZOFFSETFROM:-0600
TZOFFSETTO:-0500
TZNAME:CDT
DTSTART:20260308T080000
END:DAYLIGHT
BEGIN:STANDARD
TZOFFSETFROM:-0500
TZOFFSETTO:-0600
TZNAME:CST
DTSTART:20261101T070000
END:STANDARD
BEGIN:DAYLIGHT
TZOFFSETFROM:-0600
TZOFFSETTO:-0500
TZNAME:CDT
DTSTART:20270314T080000
END:DAYLIGHT
BEGIN:STANDARD
TZOFFSETFROM:-0500
TZOFFSETTO:-0600
TZNAME:CST
DTSTART:20271107T070000
END:STANDARD
END:VTIMEZONE
BEGIN:VEVENT
DTSTART;TZID=America/Chicago:20260202T170000
DTEND;TZID=America/Chicago:20260309T174500
DTSTAMP:20260419T074505
CREATED:20260106T021334Z
LAST-MODIFIED:20260106T021334Z
UID:4780-1770051600-1773078300@fusionathleticsgb.com
SUMMARY:Intro to Cheer
DESCRIPTION:[vc_row][vc_column][vc_single_image image=”4781″ img_size=”full” alignment=”center” css=””][vc_empty_space][vc_column_text css=””]\nWhat better way to spend your Mondays\, than learning everything All Star Cheer! This 6 week class will teach proper cheer jumps\, tumbling\, and stunting! Every Monday Feb 2nd to March 9th 5pm to 545pm and includes a Fusion T Shirt! \nDate: 2/2/2026\nCost: $89[/vc_column_text][vc_empty_space][vc_separator style=”solid” color=”#000000″ padding_top=”10″ padding_bottom=”20″][vc_button title=”REGISTER NOW” target=”_blank” color=”custom” custom_color=”#000000″ custom_border_color=”#000000″ custom_color_hover=”#1fe011″ custom_border_color_hover=”#1fe011″ full_width=”true” href=”https://app.jackrabbitclass.com/regv2.asp?id=520393&fbclid=IwAR1NmiJ3saF1D1yaaNWQ_hhvjy42r-ILcB3HdIaa4-jzPxOONWcLrqofeiA”][vc_empty_space][/vc_column][/vc_row]
URL:https://fusionathleticsgb.com/events/intro-to-cheer-2/
CATEGORIES:Upcoming Events
ATTACH;FMTTYPE=image/png:https://fusionathleticsgb.com/wp-content/uploads/2026/01/CHEER-21.png
END:VEVENT
BEGIN:VEVENT
DTSTART;TZID=America/Chicago:20260304T183000
DTEND;TZID=America/Chicago:20260304T203000
DTSTAMP:20260419T074505
CREATED:20260106T023648Z
LAST-MODIFIED:20260106T023648Z
UID:4784-1772649000-1772656200@fusionathleticsgb.com
SUMMARY:Flight School
DESCRIPTION:[vc_row][vc_column][vc_empty_space][vc_column_text css=””]\nFlight School is here!\nTake your flyer training to the next level with our Flight School! A 30 min flying lesson with a College Coed Stunter! \nWednesdays Jan 14th\, Feb 4 and March 4th \nSpots are limited—register today! \nDate:Wednesdays Jan 14th\, Feb 4 and March 4th\nCost: $30/session[/vc_column_text][vc_empty_space][vc_separator style=”solid” color=”#000000″ padding_top=”10″ padding_bottom=”20″][vc_button title=”REGISTER NOW” target=”_blank” color=”custom” custom_color=”#000000″ custom_border_color=”#000000″ custom_color_hover=”#1fe011″ custom_border_color_hover=”#1fe011″ full_width=”true” href=”https://app.jackrabbitclass.com/eventcalendar.asp?int=1″][vc_empty_space][/vc_column][/vc_row]
URL:https://fusionathleticsgb.com/events/flight-school-3/
CATEGORIES:Upcoming Events
ATTACH;FMTTYPE=image/png:https://fusionathleticsgb.com/wp-content/uploads/2023/11/cropped-favicon.png
END:VEVENT
BEGIN:VEVENT
DTSTART;TZID=America/Chicago:20260313T163000
DTEND;TZID=America/Chicago:20260313T203000
DTSTAMP:20260419T074505
CREATED:20260202T185834Z
LAST-MODIFIED:20260202T190052Z
UID:4870-1773419400-1773433800@fusionathleticsgb.com
SUMMARY:Elite Tumbling Clinic
DESCRIPTION:[vc_row][vc_column][vc_single_image image=”4871″ img_size=”full” alignment=”center” css=””][vc_empty_space][/vc_column][/vc_row][vc_row][vc_column][vc_empty_space][vc_column_text css=””]\nJoin Fusion Athletics Green Bay for an Elite Tumbling Clinic designed to sharpen technique and build confidence! Athletes can choose from two focused sessions: a Back Handspring Clinic (4:30-6:30 pm) or a Tuck/Layout/Twist Clinic (6:30-8:30 pm). Each session is $50 per athlete and led by experienced coaches in a high-energy\, supportive environment. Perfect for athletes ready to level up their skills! \nDate: 3/13/2026\nSession 1: Back Handspring Clinic | 4:30-6:30 pm\nSession 2: Tuck/Layout/Twist Clinic | 6:30-8:30 pm\nCost: $50 Per Athlete/ Per Clinic \n[/vc_column_text][vc_empty_space][vc_custom_heading text=”SELECT A CLINIC TO REGISTER” font_container=”tag:h2|text_align:left|color:%23000000″ use_theme_fonts=”yes” css=””][vc_separator style=”solid” color=”#000000″ padding_top=”10″ padding_bottom=”20″][vc_button title=”Back Handspring Clinic (4:30-6:30 pm)” target=”_blank” color=”custom” custom_color=”#000000″ custom_border_color=”#000000″ custom_color_hover=”#1fe011″ custom_border_color_hover=”#1fe011″ full_width=”true” href=”https://app.jackrabbitclass.com/regevent.asp?xID=8011063&orgid=520393&PortalSession=”][vc_empty_space height=”10px”][vc_button title=”Tuck/Layout/Twist Clinic (6:30-8:30 pm)” target=”_blank” color=”custom” custom_color=”#000000″ custom_border_color=”#000000″ custom_color_hover=”#1fe011″ custom_border_color_hover=”#1fe011″ full_width=”true” href=”https://app.jackrabbitclass.com/regevent.asp?xID=8011209&orgid=520393&PortalSession=”][vc_empty_space][/vc_column][/vc_row]
URL:https://fusionathleticsgb.com/events/elite-tumbling-clinic/
CATEGORIES:Upcoming Events
ATTACH;FMTTYPE=image/jpeg:https://fusionathleticsgb.com/wp-content/uploads/2026/02/Tumbling-Clinic-23.jpg
END:VEVENT
END:VCALENDAR